Workbook

Sheet ANJAB PENILIK
B1: FORMULIR APLIKASI HASIL ANALISIS JABATAN DAN ANALIS BEBAN KERJA
B2: INFORMASI JABATAN
B4: 1. | C4: NAMA JABATAN | E4: : | F4: PENILIK AHLI MUDA
B5: 2. | C5: KODE JABATAN | E5: : | F5: -
B6: 3. | C6: UNIT KERJA | E6: : | F6: Dinas Pendidikan dan Kebudayaan Kabupaten Wajo
C7: a. | D7: JPT Utama | E7: :
C8: b. | D8: JPT Madya | E8: :
C9: c. | D9: JPT Pratama | E9: : | F9: Kepala Dinas
C10: d. | D10: Administrator | E10: :
C11: e. | D11: Pengawas | E11: :
C12: f. | D12: Pelaksana | E12: :
C13: g. | D13: Jabatan Fungsional | E13: :
B15: 4. | C15: IKTISAR JABATAN | E15: : | F15: Melaksanakan kegiatan pengendalian mutu dan evaluasi dampak program pendidikan anak usia dini (PAUD), pendidikan kesetaraan dan keaksaraan, serta kursus pada jalur pendidikan nonformal dan informal (PNFI)
B17: 5. | C17: KUALIFIKASI JABATAN | E17: :
C18: a. | D18: Pendidikan Formal | E18: : | F18: S1 Kependidikan / S1 Inpassing
C19: b. | D19: Pendidikan & Pelatihan | E19: :
E20: - | F20: Diklat Prajabatan
E21: - | F21: Pendidikan dan pelatihan fungsional / teknis penilik serta memperoleh Surat Tanda Tamat Pendidikan dan Pelatihan (STTPP) atau sertifikat
C25: c. | D25: Pengalaman Kerja | E25: : | F25: - Kepala Seksi/Kepala Bidang PAUD dan pendidikan non formal lingkup Dinas Pendidikan dan Kebudayaan
F26: - Guru, Pamong Belajar, Pengawas Sekolah dan Tenaga Kependidikan lainnya
B27: 6. | C27: TUGAS POKOK | E27: :
B29: NO | C29: URAIAN TUGAS | E29: HASIL KERJA | I29: JUMLAH HASIL | J29: WAKTU PENYELESAIAN (JAM) | K29: WAKTU EFEKTIF | L29: KEBUTUHAN PEGAWAI
B31: 1 | C31: Menyusun rencana kerja tahunan pengendalian mutu program PAUD dan DIKMAS sebagai anggota | E31: Rencana Tahunan | I31: 1 | J31: 26 | K31: 1250 | L31: =I31*J31/K31 -> 0.0208
B32: 2 | C32: Menyusun rencana kerja triwulan pengendalian mutu satuan PAUD dan DIKMAS | E32: Rencana Triwulan | I32: 40 | J32: 16 | K32: 1250 | L32: =I32*J32/K32 -> 0.512
B33: 3 | C33: Membuat instrumen pemantauan program PAUD dan DIKMAS | E33: Instrumen | I33: 80 | J33: 16 | K33: 1250 | L33: =I33*J33/K33 -> 1.024
B34: 4 | C34: Mengumpulkan data pemantauan program PAUD dan DIKMAS | E34: Data | I34: 80 | J34: 12 | K34: 1250 | L34: =I34*J34/K34 -> 0.768
B35: 5 | C35: Menganalisis hasil pemantauan pelaksanaan program PAUD dan DIKMAS | E35: Laporan | I35: 80 | J35: 12 | K35: 1250 | L35: =I35*J35/K35 -> 0.768
B36: 6 | C36: Membuat desain diskusi terfokus hasil pemantauan program PAUD dan DIKMAS | E36: Desain | I36: 40 | J36: 6 | K36: 1250 | L36: =I36*J36/K36 -> 0.192
B37: 7 | C37: Melaksanakan diskusi terfokus hasil pemantauan program PAUD dan DIKMAS sebagai anggota | E37: Laporan | I37: 40 | J37: 4 | K37: 1250 | L37: =I37*J37/K37 -> 0.128
B38: 8 | C38: Menyusun laporan hasil pemantauan program PAUD dan DIKMAS | E38: Laporan | I38: 40 | J38: 8 | K38: 1250 | L38: =I38*J38/K38 -> 0.256
B39: 9 | C39: Membuat instrumen penilaian program pada satuan PAUD dan DIKMAS berdasarkan standar pendidikan | E39: Instrumen | I39: 80 | J39: 24 | K39: 1250 | L39: =I39*J39/K39 -> 1.536
B40: 10 | C40: Melaksanakan, menganalisis, dan melaporkan hasil penilaian program pada satuan PAUD dan DIKMAS | E40: Laporan | I40: 80 | J40: 24 | K40: 1250 | L40: =I40*J40/K40 -> 1.536
B41: 11 | C41: Melakukan pembimbingan dan pembinaan kepada pendidik dan tenaga kependidikan satuan PAUD dan DIKMAS berdasarkan standar pendidikan dengan sasaran perorangan | E41: Laporan | I41: 80 | J41: 32 | K41: 1250 | L41: =I41*J41/K41 -> 2.048
B42: 12 | C42: Menyusun laporan triwulan hasil pengendalian mutu satuan PAUD dan DIKMAS | E42: Laporan | I42: 40 | J42: 8 | K42: 1250 | L42: =I42*J42/K42 -> 0.256
... B44: 14 | C44: Membuat karya tulis/karya ilmiah berupa tinjauan atau ulasan ilmiah hasil gagasan sendiri di bidang PAUD dan DIKMAS yang tidak dipublikasikan dalam bentuk makalah | E44: Naskah | I44: 10 | J44: 175 | K44: 1250 | L44: =I44*J44/K44 -> 1.4
B46: JUMLAH | J46: =SUM(J31:J45) -> 371 | K46: 1250 | L46: =SUM(L31:L45) -> 10.4512
B47: JUMLAH PEGAWAI | K47: =K46 -> 1250 | L47: =L46 -> 10.4512
B51: 7. | C51: HASIL KERJA | E51: : | F51: 1 | G51: Rencana Tahunan pengendalian mutu program PAUD dan DIKMAS
F52: 2 | G52: Rencana Triwulan pengendalian mutu satuan PAUD dan DIKMAS
F53: 3 | G53: Instrumen pemantauan program PAUD dan DIKMAS
F54: 4 | G54: Data pemantauan program PAUD dan DIKMAS
F55: 5 | G55: Laporan analisis hasil pemantauan pelaksanaan program PAUD dan DIKMAS
F56: 6 | G56: Desain diskusi terfokus hasil pemantauan program PAUD dan DIKMAS
F57: 7 | G57: Laporan Pelaksanaan hasil diskusi terfokus hasil pemantauan program PAUD dan DIKMAS
F58: 8 | G58: Laporan hasil pemantauan program PAUD dan DIKMAS
F59: 9 | G59: Instrumen penilaian program pada satuan PAUD dan DIKMAS berdasarkan standar pendidikan
F60: 10 | G60: Laporan hasil pelaksanaan, analisis, dan hasil penilaian program pada satuan PAUD dan DIKMAS
F61: 11 | G61: Laporan hasil pelaksanaan pembimbingan dan pembinaan kepada pendidik dan tenaga kependidikan satuan PAUD dan DIKMAS berdasarkan standar pendidikan dengan sasaran perorangan
F62: 12 | G62: Laporan triwulan hasil pengendalian mutu satuan PAUD dan DIKMAS
F63: 13 | G63: Laporan tahunan hasil pengendalian mutu program PAUD dan DIKMAS
F64: 14 | G64: Naskah karya tulis/karya ilmiah berupa tinjauan atau ulasan ilmiah hasil gagasan sendiri di bidang PAUD dan DIKMAS yang tidak dipublikasikan dalam bentuk makalah
B65: 8. | C65: BAHAN KERJA | E65: :
B67: NO | C67: BAHAN KERJA | F67: PENGGUNAAN DALAM TUGAS
B69: 1 | C69: Undang-undang terkait penyelenggaraan PAUD, Pendidikan Kesetaraan dan keaksaraan dan kursus | F69: Pedoman koordinasi pelaksanaan tugas pengendalian mutu program PAUD, Pendidikan Kesetaraan dan keaksaraan
B70: 2 | C70: Peraturan Menteri Dalam Negeri terkait penyelenggaraan PAUD, Pendidikan Kesetaraan dan keaksaraan dan kursus | F70: Pedoman dalam melaksanakan tugas
B71: 3 | C71: Peraturan Menteri Pendayagunaan Aparatur Negara dan Reformasi Birokrasi terkait penyelenggaraan manajemen ASN | F71: Pedoman koordinasi perumusan kebijakan pengembangan ASN
B72: 4 | C72: RPJPD Kabupaten Wajo | F72: Pedoman dalam perumusan kebijakan perencanaan pembangunan daerah
B73: 5 | C73: RPJMD Kabupaten Wajo | F73: Pedoman dalam perumusan kebijakan perencanaan pembangunan daerah
B74: 6 | C74: RPJMD Kabupaten Wajo | F74: Pedoman dalam perumusan kebijakan perencanaan pembangunan daerah
B75: 7 | C75: Renstra SKPD | F75: Pedoman pelaksanaan tugas administratif, organisasi dan tatalaksana kepada seluruh perangkat daerah.
B76: 8 | C76: Peraturan Bupati Wajo No. 64 Tahun 2016 tentang Kedudukan, Susunan Organisasi, Perincian Tugas dan Fungsi serta Tata Kerja Dinas PMD | F76: Pelaksanaan tugas kedinasan lain yang diperintahkan oleh atasan.
B77: 9 | C77: Renja SKPD | F77: Pedoman dalam perumusan kebijakan di lingkup dinas.
B78: 10 | C78: Disposisi Bupati | F78: Petunjuk pelaksanaan tugas kedinasan
B79: 11 | C79: Meubeler | F79: Mendukung pelaksanaan tugas dan kegiatan
B80: 3 | C80: Peraturan Daerah terkait PAUD, Pendidikan Kesetaraan dan keaksaraan dan kursus | F80: Pedoman dalam melaksanakan tugas pengendalian mutu Penyelenggaraan PAUD, Pendidikan Kesetaraan dan keaksaraan dan kursus
B81: 4 | C81: Disposisi Pimpinan | F81: Pelaksanaan tugas kedinasan lain yang diperintahkan oleh atasan.
B84: 9. | C84: PERANGKAT KERJA | E84: :
B86: NO | C86: PERANGKAT KERJA | F86: PENGGUNAAN UNTUK TUGAS
B88: 1 | C88: ATK | F88: Mendukung pelaksanaan tugas dan kegiatan
B89: 2 | C89: Flash Disk | F89: Menyimpan data pelaksanaan tugas dinas dalam bentuk soft copy
B90: 3
B91: 4
B92: 5
B93: 6
B94: 7
B95: 8
B96: 9
B97: 10
B98: 11
B99: 3 | C99: Laptop/Komputer | F99: Menganalisis data, dan menyelesaikan laporan terkait tupoksi dalam tugas pengendalian mutu dalam bentuksoft copy
B100: 4 | C100: Printer | F100: Untuk mencetak dokumen
B101: 5 | C101: Telepon/Fax | F101: Mengkomunikasikan dan mengkoordinasikan semua hal-hal yang terkait dengan pekerjaan
B102: 6 | C102: Standard Operating Procedure (SOP) | F102: Penyusunan langkah-langkah dalam pelaksanaan kegiatan atau pekerjaan
B105: 10. | C105: TANGGUNG JAWAB | E105: :
B107: NO | C107: URAIAN
B109: 1 | C109: Kecermatan menyusun Rencana Tahunan pengendalian mutu program PAUD dan DIKMAS
B110: 2 | C110: Kecermatan menyusun Rencana Triwulan pengendalian mutu satuan PAUD dan DIKMAS
B111: 3 | C111: Kecermatan menyusun Instrumen pemantauan program PAUD dan DIKMAS
B112: 4 | C112: Ketepatan mengumpulkan data pemantauan program PAUD dan DIKMAS
B113: 5 | C113: Kecermatan menyusun laporan analisis hasil pemantauan pelaksanaan program PAUD dan DIKMAS
B114: 6 | C114: Kecermatan menyusun desain diskusi terfokus hasil pemantauan program PAUD dan DIKMAS
B115: 7 | C115: Kelancaran melaksanakan diskusi terfokus hasil pemantauan program PAUD dan DIKMAS
B116: 8 | C116: Ketepatan laporan hasil pemantauan program PAUD dan DIKMAS
B117: 9 | C117: Kecermatan menyusun instrumen penilaian program pada satuan PAUD dan DIKMAS berdasarkan standar pendidikan
B118: 10 | C118: Laporan hasil pelaksanaan, analisis, dan hasil penilaian program pada satuan PAUD dan DIKMAS
B119: 11 | C119: Kelancaran melaksanakan pembimbingan dan pembinaan kepada pendidik dan tenaga kependidikan satuan PAUD dan DIKMAS berdasarkan standar pendidikan dengan sasaran perorangan
B120: 12 | C120: Kecermatan menyusun laporan triwulan hasil pengendalian mutu satuan PAUD dan DIKMAS
... B122: 14 | C122: Kecermatan menyusun naskah karya tulis/karya ilmiah berupa tinjauan atau ulasan ilmiah hasil gagasan sendiri di bidang PAUD dan DIKMAS yang tidak dipublikasikan dalam bentuk makalah
B125: 11. | C125: WEWENANG | E125: :
B127: NO | C127: URAIAN
...

Sheet ABK-PENILIK AHLI MUDA
A1: PENGHITUNGAN FORMASI JABATAN FUNGSIONAL PENILIK
A2: PENILIK AHLI MUDA
D4: =O28 -> 10.4512
A5: NO | B5: UNSUR | C5: SUB UNSUR | E5: BUTIR KEGIATAN | G5: ANGKA KREDIT | I5: Rata-Rata Angka Kredit Per Jam | K5: Waktu Efektif Penyelesaian Butir Kegiatan (Jam) | M5: Volume Kegiatan | O5: Waktu Efektif Penyelesaian Volume Kegiatan
A6: 1 | B6: 2 | C6: 3 | E6: 4 | G6: 5 | I6: 6 | K6: 7 | M6: 8 | O6: 9
E7: 1 | F7: Menyusun rencana kerja tahunan pengendalian mutu program PAUD dan DIKMAS sebagai anggota | G7: 0.52 | H7: =" AK/"&'ANJAB PENILIK'!E31 -> AK/Rencana Tahunan | I7: 0.02 | J7: AK/Jam | K7: =+G7/I7 -> 26 | L7: =P7&"/"&'ANJAB PENILIK'!E31 -> Jam/Rencana Tahunan | M7: ='ANJAB PENILIK'!I31 -> 1 | N7: ='ANJAB PENILIK'!E31 -> Rencana Tahunan | O7: =K7*M7 -> 26 | P7: Jam
E8: 2 | F8: Menyusun rencana kerja triwulan pengendalian mutu satuan PAUD dan DIKMAS | G8: 0.32 | H8: =" AK/"&'ANJAB PENILIK'!E32 -> AK/Rencana Triwulan | I8: 0.02 | J8: AK/Jam | K8: =+G8/I8 -> 16 | L8: =P8&"/"&'ANJAB PENILIK'!E32 -> Jam/Rencana Triwulan | M8: ='ANJAB PENILIK'!I32 -> 40 | N8: ='ANJAB PENILIK'!E32 -> Rencana Triwulan | O8: =K8*M8 -> 640 | P8: Jam
E9: 3 | F9: Membuat instrumen pemantauan program PAUD dan DIKMAS | G9: 0.32 | H9: =" AK/"&'ANJAB PENILIK'!E33 -> AK/Instrumen | I9: 0.02 | J9: AK/Jam | K9: =+G9/I9 -> 16 | L9: =P9&"/"&'ANJAB PENILIK'!E33 -> Jam/Instrumen | M9: ='ANJAB PENILIK'!I33 -> 80 | N9: ='ANJAB PENILIK'!E33 -> Instrumen | O9: =K9*M9 -> 1280 | P9: Jam
E10: 4 | F10: Mengumpulkan data pemantauan program PAUD dan DIKMAS | G10: 0.24 | H10: =" AK/"&'ANJAB PENILIK'!E34 -> AK/Data | I10: 0.02 | J10: AK/Jam | K10: =+G10/I10 -> 12 | L10: =P10&"/"&'ANJAB PENILIK'!E34 -> Jam/Data | M10: ='ANJAB PENILIK'!I34 -> 80 | N10: ='ANJAB PENILIK'!E34 -> Data | O10: =K10*M10 -> 960 | P10: Jam
E11: 5 | F11: Menganalisis hasil pemantauan pelaksanaan program PAUD dan DIKMAS | G11: 0.24 | H11: =" AK/"&'ANJAB PENILIK'!E35 -> AK/Laporan | I11: 0.02 | J11: AK/Jam | K11: =+G11/I11 -> 12 | L11: =P11&"/"&'ANJAB PENILIK'!E35 -> Jam/Laporan | M11: ='ANJAB PENILIK'!I35 -> 80 | N11: ='ANJAB PENILIK'!E35 -> Laporan | O11: =K11*M11 -> 960 | P11: Jam
E12: 6 | F12: Membuat desain diskusi terfokus hasil pemantauan program PAUD dan DIKMAS | G12: 0.12 | H12: =" AK/"&'ANJAB PENILIK'!E36 -> AK/Desain | I12: 0.02 | J12: AK/Jam | K12: =+G12/I12 -> 6 | L12: =P12&"/"&'ANJAB PENILIK'!E36 -> Jam/Desain | M12: ='ANJAB PENILIK'!I36 -> 40 | N12: ='ANJAB PENILIK'!E36 -> Desain | O12: =K12*M12 -> 240 | P12: Jam
C13: B. | E13: 7 | F13: Melaksanakan diskusi terfokus hasil pemantauan program PAUD dan DIKMAS sebagai anggota | G13: 0.08 | H13: =" AK/"&'ANJAB PENILIK'!E37 -> AK/Laporan | I13: 0.02 | J13: AK/Jam | K13: =+G13/I13 -> 4 | L13: =P13&"/"&'ANJAB PENILIK'!E37 -> Jam/Laporan | M13: ='ANJAB PENILIK'!I37 -> 40 | N13: ='ANJAB PENILIK'!E37 -> Laporan | O13: =K13*M13 -> 160 | P13: Jam
E14: 8 | F14: Menyusun laporan hasil pemantauan program PAUD dan DIKMAS | G14: 0.16 | H14: =" AK/"&'ANJAB PENILIK'!E38 -> AK/Laporan | I14: 0.02 | J14: AK/Jam | K14: =+G14/I14 -> 8 | L14: =P14&"/"&'ANJAB PENILIK'!E38 -> Jam/Laporan | M14: ='ANJAB PENILIK'!I38 -> 40 | N14: ='ANJAB PENILIK'!E38 -> Laporan | O14: =K14*M14 -> 320 | P14: Jam
E15: 9 | F15: Membuat instrumen penilaian program pada satuan PAUD dan DIKMAS berdasarkan standar pendidikan | G15: 0.48 | H15: =" AK/"&'ANJAB PENILIK'!E39 -> AK/Instrumen | I15: 0.02 | J15: AK/Jam | K15: =+G15/I15 -> 24 | L15: =P15&"/"&'ANJAB PENILIK'!E39 -> Jam/Instrumen | M15: ='ANJAB PENILIK'!I39 -> 80 | N15: ='ANJAB PENILIK'!E39 -> Instrumen | O15: =K15*M15 -> 1920 | P15: Jam
E16: 10 | F16: Melaksanakan, menganalisis, dan melaporkan hasil penilaian program pada satuan PAUD dan DIKMAS | G16: 0.48 | H16: =" AK/"&'ANJAB PENILIK'!E40 -> AK/Laporan | I16: 0.02 | J16: AK/Jam | K16: =+G16/I16 -> 24 | L16: =P16&"/"&'ANJAB PENILIK'!E40 -> Jam/Laporan | M16: ='ANJAB PENILIK'!I40 -> 80 | N16: ='ANJAB PENILIK'!E40 -> Laporan | O16: =K16*M16 -> 1920 | P16: Jam
E17: 11 | F17: Melakukan pembimbingan dan pembinaan kepada pendidik dan tenaga kependidikan satuan PAUD dan DIKMAS berdasarkan standar pendidikan dengan sasaran perorangan | G17: 0.64 | H17: =" AK/"&'ANJAB PENILIK'!E41 -> AK/Laporan | I17: 0.02 | J17: AK/Jam | K17: =+G17/I17 -> 32 | L17: =P17&"/"&'ANJAB PENILIK'!E41 -> Jam/Laporan | M17: ='ANJAB PENILIK'!I41 -> 80 | N17: ='ANJAB PENILIK'!E41 -> Laporan | O17: =K17*M17 -> 2560 | P17: Jam
C18: C. | D18: Pemanfaatan Kesenian | E18: 12 | F18: Menyusun laporan triwulan hasil pengendalian mutu satuan PAUD dan DIKMAS | G18: 0.16 | H18: =" AK/"&'ANJAB PENILIK'!E42 -> AK/Laporan | I18: 0.02 | J18: AK/Jam | K18: =+G18/I18 -> 8 | L18: =P18&"/"&'ANJAB PENILIK'!E42 -> Jam/Laporan | M18: ='ANJAB PENILIK'!I42 -> 40 | N18: ='ANJAB PENILIK'!E42 -> Laporan | O18: =K18*M18 -> 320 | P18: Jam
E19: 13 | F19: Menyusun laporan tahunan hasil pengendalian mutu program PAUD dan DIKMAS | G19: 0.16 | H19: =" AK/"&'ANJAB PENILIK'!E43 -> AK/Laporan | I19: 0.02 | J19: AK/Jam | K19: =+G19/I19 -> 8 | L19: =P19&"/"&'ANJAB PENILIK'!E43 -> Jam/Laporan | M19: ='ANJAB PENILIK'!I43 -> 1 | N19: ='ANJAB PENILIK'!E43 -> Laporan | O19: =K19*M19 -> 8 | P19: Jam
E20: 14 | F20: Membuat karya tulis/karya ilmiah berupa tinjauan atau ulasan ilmiah hasil gagasan sendiri di bidang PAUD dan DIKMAS yang tidak dipublikasikan dalam bentuk makalah | G20: 3.5 | H20: =" AK/"&'ANJAB PENILIK'!E44 -> AK/Naskah | I20: 0.02 | J20: AK/Jam | K20: =+G20/I20 -> 175 | L20: =P20&"/"&'ANJAB PENILIK'!E44 -> Jam/Naskah | M20: ='ANJAB PENILIK'!I44 -> 10 | N20: ='ANJAB PENILIK'!E44 -> Naskah | O20: =K20*M20 -> 1750 | P20: Jam
I22: Jumlah | N22: : | O22: =SUM(O7:O20) -> 13064 | P22: Jam
I23: Jam Kerja 1 Tahun | N23: : | O23: 1250 | P23: Jam
I24: Hasil (Jumlah/Jam Kerja 1 Tahun) | N24: : | O24: =O22/O23 -> 10.4512 | P24: Orang
I25: Pembulatan | N25: : | O25: =O24 -> 10.4512 | P25: Orang
B27: Berdasarkan perhitungan Beban Kerja diatas, diperoleh waktu efektif penyelesaian untuk seluruh volume Beban Kerja Penilik Ahli Muda adalah | O27: =O22 -> 13064 | P27: Jam
B28: Dengan demikian, total formasi Jabatan Fungsional Penilik Ahli Muda | O28: =O25 -> 10.4512 | P28: Orang

Sheet SKP ELLY
A1: FORMULIR SASARAN KINERJA PEGAWAI NEGERI SIPIL
A2: No | B2: PEJABAT PENILAI | D2: No | E2: PEGAWAI NEGERA SIPIL YANG DINILAI
A3: 1 | B3: Nama | C3: Drs. FAISAL | E3: Nama | F3: ANDI SRI HERLINDAYANI, SE
A4: 2 | B4: NIP | C4: 1.9650712e+17 | E4: NIP | F4: 1.9790121e+17
A5: 3 | B5: Pangkat/Gol.Ruang | C5: Pembina Tingkat I,IV/b | E5: Pangkat/Gol.Ruang | F5: Penata Tingkat I,III/d
A6: 4 | B6: Jabatan | C6: Kepala Dinas | E6: Jabatan | F6: Penilik Ahli Muda
A7: 5 | B7: Unit Kerja | C7: DINAS PENDIDIKAN DAN KEBUDAYAAN | E7: Unit Kerja | F7: DINAS PENDIDIKAN DAN KEBUDAYAAN
A8: No | B8: KEGIATAN TUGAS JABATAN | D8: AK | E8: TARGET
E9: KUANT/OUTPUT | G9: KUAL/MUTU | H9: WAKTU | I9: BIAYA
A10: 1 | B10: Unsur Utama : Menyusun rencana kerja tahunan pengendalian mutu program PAUD dan DIKMAS sebagai anggota (0,52/Rencana Tahunan) | D10: 0.52 | E10: 1 Rencana tahunan | G10: 100 | H10: 1 Bulan | I10: 0
A11: 2 | B11: Menyusun rencana kerja triwulan pengendalian mutu satuan PAUD dan DIKMAS (0,32/Rencana Triwulan) | D11: 1.28 | E11: 4 Rencana triwulan | G11: 100 | H11: 4 Bulan | I11: 0
A12: 3 | B12: Membuat instrumen pemantauan program PAUD dan DIKMAS (0,32/Instrumen) | D12: 2.56 | E12: 8 Instrumen | G12: 100 | H12: 4 Bulan | I12: 0
A13: 4 | B13: Mengumpulkan data pemantauan program PAUD dan DIKMAS (0,24/Data) | D13: 1.92 | E13: 8 Data | G13: 100 | H13: 4 Bulan | I13: 0
A14: 5 | B14: Menganalisis hasil pemantauan pelaksanaan program PAUD dan DIKMAS (0,24/Laporan) | D14: 1.92 | E14: 8 Laporan | G14: 100 | H14: 4 Bulan | I14: 0
A15: 6 | B15: Membuat desain diskusi terfokus hasil pemantauan program PAUD dan DIKMAS (0,12/Desain) | D15: 0.48 | E15: 4 Desain | G15: 100 | H15: 4 Bulan | I15: 0
A16: 7 | B16: Melaksanakan diskusi terfokus hasil pemantauan program PAUD dan DIKMAS sebagai anggota (0,08/Laporan) | D16: 0.32 | E16: 4 Laporan | G16: 100 | H16: 4 Bulan | I16: 0
A17: 8 | B17: Menyusun laporan hasil pemantauan program PAUD dan DIKMAS (0,16/Laporan) | D17: 1.28 | E17: 8 Laporan | G17: 100 | H17: 4 Bulan | I17: 0
A18: 9 | B18: Membuat instrumen penilaian program pada satuan PAUD dan DIKMAS berdasarkan standar pendidikan (0,48/Instrumen) | D18: 3.84 | E18: 8 Instrumen | G18: 100 | H18: 4 Bulan | I18: 0
A19: 10 | B19: Melaksanakan, menganalisis, dan melaporkan hasil penilaian program pada satuan PAUD dan DIKMAS (0,48/Laporan) | D19: 3.84 | E19: 8 Laporan | G19: 100 | H19: 4 Bulan | I19: 0
A20: 11 | B20: Melakukan pembimbingan dan pembinaan kepada pendidik dan tenaga kependidikan satuan PAUD dan DIKMAS berdasarkan standar pendidikan dengan sasaran perorangan (0,64/Laporan) | D20: 12.8 | E20: 20 Laporan | G20: 100 | H20: 4 Bulan | I20: 0
A21: 12 | B21: Menyusun laporan triwulan hasil pengendalian mutu satuan PAUD dan DIKMAS (0,16/Laporan) | D21: 0.64 | E21: 4 Laporan | G21: 100 | H21: 4 Bulan | I21: 0
... A24: 15 | B24: Unsur Penunjang : Keanggotaan dalam organisasi profesi jabatan fungsional penilik tingkat Kabupaten sebagai pengurus aktif (0,5/Tahun) | D24: 0.5 | E24: 1 Naskah | G24: 100 | H24: 12 Bulan | I24: 0
B25: Jumlah | D25: =SUM(D10:D24) -> 35.56
G27: Sengkang, 04 Januari 2021
B28: Pejabat Penilai | G28: Pegawai Negeri Sipil Yang Dinilai
B29: Drs. FAISAL NIP. 196507121990031015 | G29: ANDI SRI HERLINDAYANI, SE NIP. 197901212007012007
