Workbook

Sheet ANJAB PENILIK
A1: FORMULIR APLIKASI HASIL ANALISIS JABATAN DAN ANALIS BEBAN KERJA
A2: INFORMASI JABATAN
A4: 1. | B4: NAMA JABATAN | D4: : | E4: PENILIK AHLI MADYA
A5: 2. | B5: KODE JABATAN | D5: :
A6: 3. | B6: UNIT KERJA | D6: : | E6: Dinas Pendidikan dan Kebudayaan Kabupaten Wajo
B7: a. | C7: JPT Utama | D7: :
B8: b. | C8: JPT Madya | D8: :
B9: c. | C9: JPT Pratama | D9: :
B10: d. | C10: Administrator | D10: :
B11: e. | C11: Pengawas | D11: :
B12: f. | C12: Pelaksana | D12: :
B13: g. | C13: Jabatan Fungsional | D13: :
A15: 4. | B15: IKTISAR JABATAN | D15: : | E15: Melaksanakan kegiatan pengendalian mutu dan evaluasi dampak program pendidikan anak usia dini (PAUD), pendidikan kesetaraan dan keaksaraan, serta kursus pada jalur pendidikan nonformal dan informal (PNFI)
A17: 5. | B17: KUALIFIKASI JABATAN | D17: :
B18: a. | C18: Pendidikan Formal | D18: : | E18: S1 Kependidikan / S1 Inpassing
B19: b. | C19: Pendidikan & Pelatihan | D19: :
D20: - | E20: Diklat Prajabatan
D21: - | E21: Pendidikan dan pelatihan fungsional / teknis penilik serta memperoleh Surat Tanda Tamat Pendidikan dan Pelatihan (STTPP) atau sertifikat
B25: c. | C25: Pengalaman Kerja | D25: : | E25: - Kepala Seksi/Kepala Bidang PAUD dan pendidikan non formal lingkup Dinas Pendidikan dan Kebudayaan
E26: - Guru, Pamong Belajar, Pengawas Sekolah dan Tenaga Kependidikan lainnya
A27: 6. | B27: TUGAS POKOK | D27: :
A29: NO | B29: URAIAN TUGAS | D29: HASIL KERJA | H29: JUMLAH HASIL | I29: WAKTU PENYELESAIAN (JAM) | J29: WAKTU EFEKTIF | K29: KEBUTUHAN PEGAWAI
A31: 1 | B31: Menyusun rencana kerja tahunan pengendalian mutu program PAUD dan DIKMAS sebagai anggota | D31: Rencana Tahunan | H31: 1 | I31: 26 | J31: 1250 | K31: =H31*I31/J31 -> 0.0208
A32: 2 | B32: Menyusun rencana kerja triwulan pengendalian mutu satuan PAUD dan DIKMAS | D32: Rencana Triwulan | H32: 60 | I32: 16 | J32: 1250 | K32: =H32*I32/J32 -> 0.768
A33: 3 | B33: Membuat instrumen pemantauan program PAUD dan DIKMAS | D33: Instrumen | H33: 120 | I33: 16 | J33: 1250 | K33: =H33*I33/J33 -> 1.536
A34: 4 | B34: Mengumpulkan data pemantauan program PAUD dan DIKMAS | D34: Data | H34: 120 | I34: 12 | J34: 1250 | K34: =H34*I34/J34 -> 1.152
A35: 5 | B35: Menganalisis hasil pemantauan pelaksanaan program PAUD dan DIKMAS | D35: Laporan | H35: 120 | I35: 12 | J35: 1250 | K35: =H35*I35/J35 -> 1.152
A36: 7 | B36: Melaksanakan diskusi terfokus hasil pemantauan program PAUD dan DIKMAS sebagai anggota | D36: Laporan | H36: 60 | I36: 4 | J36: 1250 | K36: =H36*I36/J36 -> 0.192
A37: 8 | B37: Menyusun laporan hasil pemantauan program PAUD dan DIKMAS | D37: Laporan | H37: 60 | I37: 8 | J37: 1250 | K37: =H37*I37/J37 -> 0.384
A38: 9 | B38: Membuat instrumen penilaian program pada satuan PAUD dan DIKMAS berdasarkan standar pendidikan | D38: Instrumen | H38: 120 | I38: 24 | J38: 1250 | K38: =H38*I38/J38 -> 2.304
A39: 10 | B39: Melaksanakan, menganalisis, dan melaporkan hasil penilaian program pada satuan PAUD dan DIKMAS | D39: Laporan | H39: 120 | I39: 24 | J39: 1250 | K39: =H39*I39/J39 -> 2.304
A40: 11 | B40: Melakukan pembimbingan dan pembinaan kepada pendidik dan tenaga kependidikan satuan PAUD dan DIKMAS berdasarkan standar pendidikan dengan sasaran kelompok | D40: Laporan | H40: 120 | I40: 40 | J40: 1250 | K40: =H40*I40/J40 -> 3.84
A41: 12 | B41: Melakukan pembimbingan dan pembinaan kepada pendidik dan tenaga kependidikan PAUD dan DIKMAS dalam melakukan penelitian atau pengembangan pembelajaran, pelatihan, dan/atau pembimbingan dengan sasaran perorangan | D41: Laporan | H41: 120 | I41: 16 | J41: 1250 | K41: =H41*I41/J41 -> 1.536
A42: 13 | B42: Melakukan pembimbingan dan pembinaan kepada pendidik dan tenaga kependidikan PAUD dan DIKMAS dalam menggunakan dan mengembangkan media pembelajaran dan teknologi informasi untuk kegiatan pembelajaran, pelatihan, pembimbingan dengan sasaran perorangan | D42: Laporan | H42: 120 | I42: 10 | J42: 1250 | K42: =H42*I42/J42 -> 0.96
... A45: 16 | B45: Membuat karya tulis/karya ilmiah berupa tinjauan atau ulasan ilmiah hasil gagasan sendiri di bidang PAUD dan DIKMAS yang tidak dipublikasikan dalam bentuk makalah | D45: Naskah | H45: 15 | I45: 116.7 | J45: 1250 | K45: =H45*I45/J45 -> 1.4004
A47: JUMLAH | I47: =SUM(I31:I46) -> 340.7 | J47: 1250 | K47: =SUM(K31:K46) -> 17.9396
A48: JUMLAH PEGAWAI | J48: =J47 -> 1250 | K48: =K47 -> 17.9396
A52: 7. | B52: HASIL KERJA | D52: : | E52: 1 | F52: Rencana Tahunan pengendalian mutu program PAUD dan DIKMAS
E53: 2 | F53: Rencana Triwulan pengendalian mutu satuan PAUD dan DIKMAS
E54: 3 | F54: Instrumen pemantauan program PAUD dan DIKMAS
E55: 4 | F55: Data pemantauan program PAUD dan DIKMAS
E56: 5 | F56: Laporan analisis hasil pemantauan pelaksanaan program PAUD dan DIKMAS
E57: 6 | F57: Desain diskusi terfokus hasil pemantauan program PAUD dan DIKMAS
E58: 7 | F58: Laporan Pelaksanaan hasil diskusi terfokus hasil pemantauan program PAUD dan DIKMAS
E59: 8 | F59: Laporan hasil pemantauan program PAUD dan DIKMAS
E60: 9 | F60: Instrumen penilaian program pada satuan PAUD dan DIKMAS berdasarkan standar pendidikan
E61: 10 | F61: Laporan hasil pelaksanaan, analisis, dan hasil penilaian program pada satuan PAUD dan DIKMAS
E62: 11 | F62: Laporan hasil pelaksanaan pembimbingan dan pembinaan kepada pendidik dan tenaga kependidikan satuan PAUD dan DIKMAS berdasarkan standar pendidikan dengan sasaran kelompok
E63: 12 | F63: Laporan hasil pelaksanaan pembimbingan dan pembinaan kepada pendidik dan tenaga kependidikan PAUD dan DIKMAS dalam melakukan penelitian atau pengembangan pembelajaran, pelatihan, dan/atau pembimbingan dengan sasaran perorangan
E64: 13 | F64: Laporan hasil pelaksanaan pembimbingan dan pembinaan kepada pendidik dan tenaga kependidikan PAUD dan DIKMAS dalam menggunakan dan mengembangkan media pembelajaran dan teknologi informasi untuk kegiatan pembelajaran, pelatihan, pembimbingan dengan sasaran perorangan
... E67: 16 | F67: Naskah karya tulis/karya ilmiah berupa tinjauan atau ulasan ilmiah hasil gagasan sendiri di bidang PAUD dan DIKMAS yang tidak dipublikasikan dalam bentuk makalah
A68: 8. | B68: BAHAN KERJA | D68: :
A70: NO | B70: BAHAN KERJA | E70: PENGGUNAAN DALAM TUGAS
A72: 1 | B72: Undang-undang terkait penyelenggaraan PAUD, Pendidikan Kesetaraan dan keaksaraan dan kursus | E72: Pedoman koordinasi pelaksanaan tugas pengendalian mutu program PAUD, Pendidikan Kesetaraan dan keaksaraan
A73: 2 | B73: Peraturan Menteri Dalam Negeri terkait penyelenggaraan PAUD, Pendidikan Kesetaraan dan keaksaraan dan kursus | E73: Pedoman dalam melaksanakan tugas
A74: 3 | B74: Peraturan Menteri Pendayagunaan Aparatur Negara dan Reformasi Birokrasi terkait penyelenggaraan manajemen ASN | E74: Pedoman koordinasi perumusan kebijakan pengembangan ASN
A75: 4 | B75: RPJPD Kabupaten Wajo | E75: Pedoman dalam perumusan kebijakan perencanaan pembangunan daerah
A76: 5 | B76: RPJMD Kabupaten Wajo | E76: Pedoman dalam perumusan kebijakan perencanaan pembangunan daerah
A77: 6 | B77: RPJMD Kabupaten Wajo | E77: Pedoman dalam perumusan kebijakan perencanaan pembangunan daerah
A78: 7 | B78: Renstra SKPD | E78: Pedoman pelaksanaan tugas administratif, organisasi dan tatalaksana kepada seluruh perangkat daerah.
A79: 8 | B79: Peraturan Bupati Wajo No. 64 Tahun 2016 tentang Kedudukan, Susunan Organisasi, Perincian Tugas dan Fungsi serta Tata Kerja Dinas PMD | E79: Pelaksanaan tugas kedinasan lain yang diperintahkan oleh atasan.
A80: 9 | B80: Renja SKPD | E80: Pedoman dalam perumusan kebijakan di lingkup dinas.
A81: 10 | B81: Disposisi Bupati | E81: Petunjuk pelaksanaan tugas kedinasan
A82: 11 | B82: Meubeler | E82: Mendukung pelaksanaan tugas dan kegiatan
A83: 3 | B83: Peraturan Daerah terkait PAUD, Pendidikan Kesetaraan dan keaksaraan dan kursus | E83: Pedoman dalam melaksanakan tugas pengendalian mutu Penyelenggaraan PAUD, Pendidikan Kesetaraan dan keaksaraan dan kursus
A84: 4 | B84: Disposisi Pimpinan | E84: Pelaksanaan tugas kedinasan lain yang diperintahkan oleh atasan.
A87: 9. | B87: PERANGKAT KERJA | D87: :
A89: NO | B89: PERANGKAT KERJA | E89: PENGGUNAAN UNTUK TUGAS
A91: 1 | B91: ATK | E91: Mendukung pelaksanaan tugas dan kegiatan
A92: 2 | B92: Flash Disk | E92: Menyimpan data pelaksanaan tugas dinas dalam bentuk soft copy
A93: 3
A94: 4
A95: 5
A96: 6
A97: 7
A98: 8
A99: 9
A100: 10
A101: 11
A102: 3 | B102: Laptop/Komputer | E102: Menganalisis data, dan menyelesaikan laporan terkait tupoksi dalam tugas pengendalian mutu dalam bentuksoft copy
A103: 4 | B103: Printer | E103: Untuk mencetak dokumen
A104: 5 | B104: Telepon/Fax | E104: Mengkomunikasikan dan mengkoordinasikan semua hal-hal yang terkait dengan pekerjaan
A105: 6 | B105: Standard Operating Procedure (SOP) | E105: Penyusunan langkah-langkah dalam pelaksanaan kegiatan atau pekerjaan
A108: 10. | B108: TANGGUNG JAWAB | D108: :
A110: NO | B110: URAIAN
A112: 1 | B112: Kecermatan menyusun Rencana Tahunan pengendalian mutu program PAUD dan DIKMAS
A113: 2 | B113: Kecermatan menyusun Rencana Triwulan pengendalian mutu satuan PAUD dan DIKMAS
A114: 3 | B114: Kecermatan menyusun Instrumen pemantauan program PAUD dan DIKMAS
A115: 4 | B115: Ketepatan mengumpulkan data pemantauan program PAUD dan DIKMAS
A116: 5 | B116: Kecermatan menyusun laporan analisis hasil pemantauan pelaksanaan program PAUD dan DIKMAS
A117: 6 | B117: Kecermatan menyusun desain diskusi terfokus hasil pemantauan program PAUD dan DIKMAS
A118: 7 | B118: Kelancaran melaksanakan diskusi terfokus hasil pemantauan program PAUD dan DIKMAS
A119: 8 | B119: Ketepatan laporan hasil pemantauan program PAUD dan DIKMAS
A120: 9 | B120: Kecermatan menyusun instrumen penilaian program pada satuan PAUD dan DIKMAS berdasarkan standar pendidikan
A121: 10 | B121: Laporan hasil pelaksanaan, analisis, dan hasil penilaian program pada satuan PAUD dan DIKMAS
A122: 11 | B122: Kelancaran melaksanakan pembimbingan dan pembinaan kepada pendidik dan tenaga kependidikan satuan PAUD dan DIKMAS berdasarkan standar pendidikan dengan sasaran perorangan
A123: 12 | B123: Kelancaran melaksanakan pembimbingan dan pembinaan kepada pendidik dan tenaga kependidikan PAUD dan DIKMAS dalam melakukan penelitian atau pengembangan pembelajaran, pelatihan, dan/atau pembimbingan dengan sasaran perorangan
... A127: 16 | B127: Kecermatan menyusun naskah karya tulis/karya ilmiah berupa tinjauan atau ulasan ilmiah hasil gagasan sendiri di bidang PAUD dan DIKMAS yang tidak dipublikasikan dalam bentuk makalah
A130: 11. | B130: WEWENANG | D130: :
A132: NO | B132: URAIAN
...

Sheet ABK-PENILIK AHLI MADYA
A1: PENGHITUNGAN FORMASI JABATAN FUNGSIONAL PENILIK
A2: PENILIK AHLI MUDA
D4: =O29 -> 16.2192
A5: NO | B5: UNSUR | C5: SUB UNSUR | E5: BUTIR KEGIATAN | G5: ANGKA KREDIT | I5: Rata-Rata Angka Kredit Per Jam | K5: Waktu Efektif Penyelesaian Butir Kegiatan (Jam) | M5: Volume Kegiatan | O5: Waktu Efektif Penyelesaian Volume Kegiatan
A6: 1 | B6: 2 | C6: 3 | E6: 4 | G6: 5 | I6: 6 | K6: 7 | M6: 8 | O6: 9
E7: 1 | F7: Menyusun rencana kerja tahunan pengendalian mutu program PAUD dan DIKMAS sebagai anggota | G7: 0.78 | H7: =" AK/"&'ANJAB PENILIK'!D31 -> AK/Rencana Tahunan | I7: 0.03 | J7: AK/Jam | K7: =+G7/I7 -> 26 | L7: =P7&"/"&'ANJAB PENILIK'!D31 -> Jam/Rencana Tahunan | M7: ='ANJAB PENILIK'!H31 -> 1 | N7: ='ANJAB PENILIK'!D31 -> Rencana Tahunan | O7: =K7*M7 -> 26 | P7: Jam
E8: 2 | F8: Menyusun rencana kerja triwulan pengendalian mutu satuan PAUD dan DIKMAS | G8: 0.48 | H8: =" AK/"&'ANJAB PENILIK'!D32 -> AK/Rencana Triwulan | I8: 0.03 | J8: AK/Jam | K8: =+G8/I8 -> 16 | L8: =P8&"/"&'ANJAB PENILIK'!D32 -> Jam/Rencana Triwulan | M8: ='ANJAB PENILIK'!H32 -> 60 | N8: ='ANJAB PENILIK'!D32 -> Rencana Triwulan | O8: =K8*M8 -> 960 | P8: Jam
E9: 3 | F9: Membuat instrumen pemantauan program PAUD dan DIKMAS | G9: 0.48 | H9: =" AK/"&'ANJAB PENILIK'!D33 -> AK/Instrumen | I9: 0.03 | J9: AK/Jam | K9: =+G9/I9 -> 16 | L9: =P9&"/"&'ANJAB PENILIK'!D33 -> Jam/Instrumen | M9: ='ANJAB PENILIK'!H33 -> 120 | N9: ='ANJAB PENILIK'!D33 -> Instrumen | O9: =K9*M9 -> 1920 | P9: Jam
E10: 4 | F10: Mengumpulkan data pemantauan program PAUD dan DIKMAS | G10: 0.36 | H10: =" AK/"&'ANJAB PENILIK'!D34 -> AK/Data | I10: 0.03 | J10: AK/Jam | K10: =+G10/I10 -> 12 | L10: =P10&"/"&'ANJAB PENILIK'!D34 -> Jam/Data | M10: ='ANJAB PENILIK'!H34 -> 120 | N10: ='ANJAB PENILIK'!D34 -> Data | O10: =K10*M10 -> 1440 | P10: Jam
E11: 5 | F11: Menganalisis hasil pemantauan pelaksanaan program PAUD dan DIKMAS | G11: 0.36 | H11: =" AK/"&'ANJAB PENILIK'!D35 -> AK/Laporan | I11: 0.03 | J11: AK/Jam | K11: =+G11/I11 -> 12 | L11: =P11&"/"&'ANJAB PENILIK'!D35 -> Jam/Laporan | M11: ='ANJAB PENILIK'!H35 -> 120 | N11: ='ANJAB PENILIK'!D35 -> Laporan | O11: =K11*M11 -> 1440 | P11: Jam
C12: B. | E12: 7 | F12: Melaksanakan diskusi terfokus hasil pemantauan program PAUD dan DIKMAS sebagai anggota | G12: 0.12 | H12: =" AK/"&'ANJAB PENILIK'!D36 -> AK/Laporan | I12: 0.03 | J12: AK/Jam | K12: =+G12/I12 -> 4 | L12: =P12&"/"&'ANJAB PENILIK'!D36 -> Jam/Laporan | M12: ='ANJAB PENILIK'!H36 -> 60 | N12: ='ANJAB PENILIK'!D36 -> Laporan | O12: =K12*M12 -> 240 | P12: Jam
E13: 8 | F13: Menyusun laporan hasil pemantauan program PAUD dan DIKMAS | G13: 0.24 | H13: =" AK/"&'ANJAB PENILIK'!D37 -> AK/Laporan | I13: 0.03 | J13: AK/Jam | K13: =+G13/I13 -> 8 | L13: =P13&"/"&'ANJAB PENILIK'!D37 -> Jam/Laporan | M13: ='ANJAB PENILIK'!H37 -> 60 | N13: ='ANJAB PENILIK'!D37 -> Laporan | O13: =K13*M13 -> 480 | P13: Jam
E14: 9 | F14: Membuat instrumen penilaian program pada satuan PAUD dan DIKMAS berdasarkan standar pendidikan | G14: 0.72 | H14: =" AK/"&'ANJAB PENILIK'!D38 -> AK/Instrumen | I14: 0.03 | J14: AK/Jam | K14: =+G14/I14 -> 24 | L14: =P14&"/"&'ANJAB PENILIK'!D38 -> Jam/Instrumen | M14: ='ANJAB PENILIK'!H38 -> 120 | N14: ='ANJAB PENILIK'!D38 -> Instrumen | O14: =K14*M14 -> 2880 | P14: Jam
E15: 10 | F15: Melaksanakan, menganalisis, dan melaporkan hasil penilaian program pada satuan PAUD dan DIKMAS | G15: 0.72 | H15: =" AK/"&'ANJAB PENILIK'!D39 -> AK/Laporan | I15: 0.03 | J15: AK/Jam | K15: =+G15/I15 -> 24 | L15: =P15&"/"&'ANJAB PENILIK'!D39 -> Jam/Laporan | M15: ='ANJAB PENILIK'!H39 -> 120 | N15: ='ANJAB PENILIK'!D39 -> Laporan | O15: =K15*M15 -> 2880 | P15: Jam
E16: 11 | F16: Melakukan pembimbingan dan pembinaan kepada pendidik dan tenaga kependidikan satuan PAUD dan DIKMAS berdasarkan standar pendidikan dengan sasaran kelompok | G16: 1.2 | H16: =" AK/"&'ANJAB PENILIK'!D40 -> AK/Laporan | I16: 0.03 | J16: AK/Jam | K16: =+G16/I16 -> 40 | L16: =P16&"/"&'ANJAB PENILIK'!D40 -> Jam/Laporan | M16: ='ANJAB PENILIK'!H40 -> 120 | N16: ='ANJAB PENILIK'!D40 -> Laporan | O16: =K16*M16 -> 4800 | P16: Jam
E17: 12 | F17: Melakukan pembimbingan dan pembinaan kepada pendidik dan tenaga kependidikan PAUD dan DIKMAS dalam melakukan penelitian atau pengembangan pembelajaran, pelatihan, dan/atau pembimbingan dengan sasaran perorangan | G17: 0.48 | H17: =" AK/"&'ANJAB PENILIK'!D43 -> AK/Laporan | I17: 0.03 | J17: AK/Jam | K17: =+G17/I17 -> 16 | L17: =P17&"/"&'ANJAB PENILIK'!D43 -> Jam/Laporan | M17: ='ANJAB PENILIK'!H43 -> 60 | N17: ='ANJAB PENILIK'!D43 -> Laporan | O17: =K17*M17 -> 960 | P17: Jam
E18: 13 | F18: Melakukan pembimbingan dan pembinaan kepada pendidik dan tenaga kependidikan PAUD dan DIKMAS dalam menggunakan dan mengembangkan media pembelajaran dan teknologi informasi untuk kegiatan pembelajaran, pelatihan, pembimbingan dengan sasaran perorangan | G18: 0.3 | H18: =" AK/"&'ANJAB PENILIK'!D44 -> AK/Laporan | I18: 0.03 | J18: AK/Jam | K18: =+G18/I18 -> 10 | L18: =P18&"/"&'ANJAB PENILIK'!D44 -> Jam/Laporan | M18: ='ANJAB PENILIK'!H44 -> 1 | N18: ='ANJAB PENILIK'!D44 -> Laporan | O18: =K18*M18 -> 10 | P18: Jam
C19: C. | E19: 14 | F19: Menyusun laporan triwulan hasil pengendalian mutu satuan PAUD dan DIKMAS | G19: 0.24 | H19: =" AK/"&'ANJAB PENILIK'!D43 -> AK/Laporan | I19: 0.03 | J19: AK/Jam | K19: =+G19/I19 -> 8 | L19: =P19&"/"&'ANJAB PENILIK'!D43 -> Jam/Laporan | M19: ='ANJAB PENILIK'!H43 -> 60 | N19: ='ANJAB PENILIK'!D43 -> Laporan | O19: =K19*M19 -> 480 | P19: Jam
E20: 15 | F20: Menyusun laporan tahunan hasil pengendalian mutu program PAUD dan DIKMAS | G20: 0.24 | H20: =" AK/"&'ANJAB PENILIK'!D44 -> AK/Laporan | I20: 0.03 | J20: AK/Jam | K20: =+G20/I20 -> 8 | L20: =P20&"/"&'ANJAB PENILIK'!D44 -> Jam/Laporan | M20: ='ANJAB PENILIK'!H44 -> 1 | N20: ='ANJAB PENILIK'!D44 -> Laporan | O20: =K20*M20 -> 8 | P20: Jam
E21: 16 | F21: Membuat karya tulis/karya ilmiah berupa tinjauan atau ulasan ilmiah hasil gagasan sendiri di bidang PAUD dan DIKMAS yang tidak dipublikasikan dalam bentuk makalah | G21: 3.5 | H21: =" AK/"&'ANJAB PENILIK'!D45 -> AK/Naskah | I21: 0.03 | J21: AK/Jam | K21: =+G21/I21 -> 116.66667 | L21: =P21&"/"&'ANJAB PENILIK'!D45 -> Jam/Naskah | M21: ='ANJAB PENILIK'!H45 -> 15 | N21: ='ANJAB PENILIK'!D45 -> Naskah | O21: =K21*M21 -> 1750 | P21: Jam
I23: Jumlah | N23: : | O23: =SUM(O7:O21) -> 20274 | P23: Jam
I24: Jam Kerja 1 Tahun | N24: : | O24: 1250 | P24: Jam
I25: Hasil (Jumlah/Jam Kerja 1 Tahun) | N25: : | O25: =O23/O24 -> 16.2192 | P25: Orang
I26: Pembulatan | N26: : | O26: =O25 -> 16.2192 | P26: Orang
B28: Berdasarkan perhitungan Beban Kerja diatas, diperoleh waktu efektif penyelesaian untuk seluruh volume Beban Kerja Penilik Ahli Muda adalah | O28: =O23 -> 20274 | P28: Jam
B29: Dengan demikian, total formasi Jabatan Fungsional Penilik Ahli Muda | O29: =O26 -> 16.2192 | P29: Orang

Sheet SKP ELLY
A1: FORMULIR SASARAN KINERJA PEGAWAI NEGERI SIPIL
A2: No | B2: PEJABAT PENILAI | D2: No | E2: PEGAWAI NEGERA SIPIL YANG DINILAI
A3: 1 | B3: Nama | C3: Drs. FAISAL | E3: Nama | F3: ANDI SRI HERLINDAYANI, SE
A4: 2 | B4: NIP | C4: 1.9650712e+17 | E4: NIP | F4: 1.9790121e+17
A5: 3 | B5: Pangkat/Gol.Ruang | C5: Pembina Tingkat I,IV/b | E5: Pangkat/Gol.Ruang | F5: Penata Tingkat I,III/d
A6: 4 | B6: Jabatan | C6: Kepala Dinas | E6: Jabatan | F6: Penilik Ahli Muda
A7: 5 | B7: Unit Kerja | C7: DINAS PENDIDIKAN DAN KEBUDAYAAN | E7: Unit Kerja | F7: DINAS PENDIDIKAN DAN KEBUDAYAAN
A8: No | B8: KEGIATAN TUGAS JABATAN | D8: AK | E8: TARGET
E9: KUANT/OUTPUT | G9: KUAL/MUTU | H9: WAKTU | I9: BIAYA
A10: 1 | B10: Unsur Utama : Menyusun rencana kerja tahunan pengendalian mutu program PAUD dan DIKMAS sebagai anggota (0,52/Rencana Tahunan) | D10: 0.52 | E10: 1 Rencana tahunan | G10: 100 | H10: 1 Bulan | I10: 0
A11: 2 | B11: Menyusun rencana kerja triwulan pengendalian mutu satuan PAUD dan DIKMAS (0,32/Rencana Triwulan) | D11: 1.28 | E11: 4 Rencana triwulan | G11: 100 | H11: 4 Bulan | I11: 0
A12: 3 | B12: Membuat instrumen pemantauan program PAUD dan DIKMAS (0,32/Instrumen) | D12: 2.56 | E12: 8 Instrumen | G12: 100 | H12: 4 Bulan | I12: 0
A13: 4 | B13: Mengumpulkan data pemantauan program PAUD dan DIKMAS (0,24/Data) | D13: 1.92 | E13: 8 Data | G13: 100 | H13: 4 Bulan | I13: 0
A14: 5 | B14: Menganalisis hasil pemantauan pelaksanaan program PAUD dan DIKMAS (0,24/Laporan) | D14: 1.92 | E14: 8 Laporan | G14: 100 | H14: 4 Bulan | I14: 0
A15: 6 | B15: Membuat desain diskusi terfokus hasil pemantauan program PAUD dan DIKMAS (0,12/Desain) | D15: 0.48 | E15: 4 Desain | G15: 100 | H15: 4 Bulan | I15: 0
A16: 7 | B16: Melaksanakan diskusi terfokus hasil pemantauan program PAUD dan DIKMAS sebagai anggota (0,08/Laporan) | D16: 0.32 | E16: 4 Laporan | G16: 100 | H16: 4 Bulan | I16: 0
A17: 8 | B17: Menyusun laporan hasil pemantauan program PAUD dan DIKMAS (0,16/Laporan) | D17: 1.28 | E17: 8 Laporan | G17: 100 | H17: 4 Bulan | I17: 0
A18: 9 | B18: Membuat instrumen penilaian program pada satuan PAUD dan DIKMAS berdasarkan standar pendidikan (0,48/Instrumen) | D18: 3.84 | E18: 8 Instrumen | G18: 100 | H18: 4 Bulan | I18: 0
A19: 10 | B19: Melaksanakan, menganalisis, dan melaporkan hasil penilaian program pada satuan PAUD dan DIKMAS (0,48/Laporan) | D19: 3.84 | E19: 8 Laporan | G19: 100 | H19: 4 Bulan | I19: 0
A20: 11 | B20: Melakukan pembimbingan dan pembinaan kepada pendidik dan tenaga kependidikan satuan PAUD dan DIKMAS berdasarkan standar pendidikan dengan sasaran perorangan (0,64/Laporan) | D20: 12.8 | E20: 20 Laporan | G20: 100 | H20: 4 Bulan | I20: 0
A21: 12 | B21: Menyusun laporan triwulan hasil pengendalian mutu satuan PAUD dan DIKMAS (0,16/Laporan) | D21: 0.64 | E21: 4 Laporan | G21: 100 | H21: 4 Bulan | I21: 0
... A24: 15 | B24: Unsur Penunjang : Keanggotaan dalam organisasi profesi jabatan fungsional penilik tingkat Kabupaten sebagai pengurus aktif (0,5/Tahun) | D24: 0.5 | E24: 1 Naskah | G24: 100 | H24: 12 Bulan | I24: 0
B25: Jumlah | D25: =SUM(D10:D24) -> 35.56
G27: Sengkang, 04 Januari 2021
B28: Pejabat Penilai | G28: Pegawai Negeri Sipil Yang Dinilai
B29: Drs. FAISAL NIP. 196507121990031015 | G29: ANDI SRI HERLINDAYANI, SE NIP. 197901212007012007
